BEGIN:VCALENDAR
VERSION:2.0
PRODID:-//Sankt Georg Heiden - ECPv5.5.0.1//NONSGML v1.0//EN
CALSCALE:GREGORIAN
METHOD:PUBLISH
X-WR-CALNAME:Sankt Georg Heiden
X-ORIGINAL-URL:https://www.sankt-georg-heiden.de
X-WR-CALDESC:Veranstaltungen für Sankt Georg Heiden
BEGIN:VTIMEZONE
TZID:Europe/Berlin
BEGIN:DAYLIGHT
TZOFFSETFROM:+0100
TZOFFSETTO:+0200
TZNAME:CEST
DTSTART:20250330T010000
END:DAYLIGHT
BEGIN:STANDARD
TZOFFSETFROM:+0200
TZOFFSETTO:+0100
TZNAME:CET
DTSTART:20251026T010000
END:STANDARD
END:VTIMEZONE
BEGIN:VEVENT
DTSTART;TZID=Europe/Berlin:20251201T180000
DTEND;TZID=Europe/Berlin:20251201T183000
DTSTAMP:20260420T161210
CREATED:20251124T093919Z
LAST-MODIFIED:20251124T093919Z
UID:25021-1764612000-1764613800@www.sankt-georg-heiden.de
SUMMARY:ökumenisches Adventsfenster
DESCRIPTION:Pauluskirche\, Mozartstr. \n\n\n\nhttps://www.sankt-georg-heiden.de/wp-content/uploads/georg-aktuell-2026-04-18.pdf
URL:https://www.sankt-georg-heiden.de/termin/oekumenisches-adventsfenster-21/
LOCATION:paulus
END:VEVENT
END:VCALENDAR